BEGIN:VCALENDAR
VERSION:2.0
PRODID:icalendar-ruby
CALSCALE:GREGORIAN
METHOD:PUBLISH
BEGIN:VEVENT
DTSTAMP:20260424T091138Z
UID:21-3592527@rockcliffe.org
DTSTART:20260927T143000Z
DTEND:20260927T160000Z
CLASS:PUBLIC
CREATED:20260423T205145
DESCRIPTION:Watch us online (YouTube) Sundays 10:30 a.m.\n Here is the lin
 k to watch the online service:  \nhttps://www.youtube.com/channel/UCC83rh
 XfQ6XSe_lZXbnQz9Q\n \n 
LAST-MODIFIED:20260423T205145
LOCATION:Rockcliffe Pentecostal Church
SUMMARY:In Person & Online Worship Service   
URL;VALUE=URI:https://www.rockcliffe.org/events/in-person-online-worship-se
 rvice/2026-09-27
ATTACH;FILENAME=EED84CBB-94AF-4B32-9B66-0DDB8D356697.png;FMTTYPE=image/png:
 https://dq5pwpg1q8ru0.cloudfront.net/2021/04/27/15/50/16/cbbfecbb-a2e5-4b5
 0-91bb-6e3ef9ae1fb7/EED84CBB-94AF-4B32-9B66-0DDB8D356697.png
END:VEVENT
END:VCALENDAR
